BEGIN:VCALENDAR
VERSION:2.0
PRODID:-//eventon.com NONSGML v1.0//EN
CALSCALE:GREGORIAN
METHOD:PUBLISH
BEGIN:VEVENT
UID:69e73dd35c222
DTSTAMP:20260421T090523Z
DTSTART:20230202T160000Z
DTEND:20230202T190000Z
LOCATION:
SUMMARY:Y7 Parents Evening (1/2)
DESCRIPTION:Y7 Parents Evening (1/2)\nhttps://kwschool.co.uk/events/y7-pare
 nts-evening-1-2/
URL:https://kwschool.co.uk/events/y7-parents-evening-1-2/
END:VEVENT
END:VCALENDAR