BEGIN:VCALENDAR
VERSION:2.0
PRODID:-//eventon.com NONSGML v1.0//EN
CALSCALE:GREGORIAN
METHOD:PUBLISH
BEGIN:VEVENT
UID:69e746cf0cffd
DTSTAMP:20260421T094343Z
DTSTART:20231010
DTEND:20231011
LOCATION:
SUMMARY:Years 7 to 11 Flu Vaccinations
DESCRIPTION:Years 7 to 11 Flu Vaccinations\nhttps://kwschool.co.uk/events/y
 ears-7-to-11-flu-vaccinations/
URL:https://kwschool.co.uk/events/years-7-to-11-flu-vaccinations/
END:VEVENT
END:VCALENDAR